BEGIN:VCALENDAR
VERSION:2.0
PRODID:-//Gideon Taylor - ECPv6.15.20//NONSGML v1.0//EN
CALSCALE:GREGORIAN
METHOD:PUBLISH
X-WR-CALNAME:Gideon Taylor
X-ORIGINAL-URL:https://gideontaylor.com
X-WR-CALDESC:Events for Gideon Taylor
REFRESH-INTERVAL;VALUE=DURATION:PT1H
X-Robots-Tag:noindex
X-PUBLISHED-TTL:PT1H
BEGIN:VTIMEZONE
TZID:America/Denver
BEGIN:DAYLIGHT
TZOFFSETFROM:-0700
TZOFFSETTO:-0600
TZNAME:MDT
DTSTART:20220313T090000
END:DAYLIGHT
BEGIN:STANDARD
TZOFFSETFROM:-0600
TZOFFSETTO:-0700
TZNAME:MST
DTSTART:20221106T080000
END:STANDARD
BEGIN:DAYLIGHT
TZOFFSETFROM:-0700
TZOFFSETTO:-0600
TZNAME:MDT
DTSTART:20230312T090000
END:DAYLIGHT
BEGIN:STANDARD
TZOFFSETFROM:-0600
TZOFFSETTO:-0700
TZNAME:MST
DTSTART:20231105T080000
END:STANDARD
BEGIN:DAYLIGHT
TZOFFSETFROM:-0700
TZOFFSETTO:-0600
TZNAME:MDT
DTSTART:20240310T090000
END:DAYLIGHT
BEGIN:STANDARD
TZOFFSETFROM:-0600
TZOFFSETTO:-0700
TZNAME:MST
DTSTART:20241103T080000
END:STANDARD
END:VTIMEZONE
BEGIN:VEVENT
DTSTART;TZID=America/Denver:20230914T110000
DTEND;TZID=America/Denver:20230914T120000
DTSTAMP:20260421T193919
CREATED:20230901T231627Z
LAST-MODIFIED:20250313T130559Z
UID:2383-1694689200-1694692800@gideontaylor.com
SUMMARY:Rethinking Digital Transformation - Chapter 1: "Everyone is Doing it" and Other Bad Reasons for Cloud Moves
DESCRIPTION:Please join us! All-new webinar!\nRethinking Digital Transformation – Chapter 1: “Everyone is Doing it” and Other Bad Reasons for Cloud Moves \nWhen starting a digital transformation\, it is best to know why you’re doing it. Is moving to the Cloud a means to an end\, or an end in itself? Are you trying to impact the bottom line\, improve the user experience\, or both? As the industry learns real-world lessons about re-platforming in the Cloud era\, you’d better have your priorities straight. \nJoin us for this insight-packed webinar with Gideon Taylor CEO Paul Taylor. Thursday\, September 14th @ 12PM CDT. \nRegister Today! \nThis session will take a hopefully sober\, and likely sobering look at how a SaaS project affects users and finances. Moving to the cloud will definitely change user experience and functionality – probably in both positive and negative ways. Cloud moves always change cost structures – but don’t automatically reduce cost. \nYour priorities should dictate the timing of your Cloud move\, and well-informed decisions may contradict herd mentality. You may find it worthwhile to invest in dramatically improving your PeopleSoft user experience today while you are preparing for your Cloud move. Sorry if we’re the first to tell you this\, but SaaS won’t magically make everything better. \nWarning: Sacred cows (and conventional wisdom) are not safe in this session! We will question the consensus meaning of “digital transformation” and propose a more challenging definition; we’ll take a clear-eyed look at the negative impacts you can expect from a SaaS move\, and steps you can take to mitigate them. You might end up wanting to rethink your whole enterprise project calendar. What\, did you think this was going to be easy? \nSave your spot! \n 
URL:https://gideontaylor.com/event/everyone-is-doing-it-and-other-bad-reasons-for-cloud-moves/
CATEGORIES:Online Webinar
ATTACH;FMTTYPE=image/png:https://gideontaylor.com/wp-content/uploads/2024/03/Rethinking-Digital-Transformation-Chapter-1-Everyone-is-Doing-It-and-Other-Bad-Reasons-for-Cloud-Moves.png
END:VEVENT
END:VCALENDAR