BEGIN:VCALENDAR
VERSION:2.0
PRODID:-//Gideon Taylor - ECPv6.15.20//NONSGML v1.0//EN
CALSCALE:GREGORIAN
METHOD:PUBLISH
X-WR-CALNAME:Gideon Taylor
X-ORIGINAL-URL:https://gideontaylor.com
X-WR-CALDESC:Events for Gideon Taylor
REFRESH-INTERVAL;VALUE=DURATION:PT1H
X-Robots-Tag:noindex
X-PUBLISHED-TTL:PT1H
BEGIN:VTIMEZONE
TZID:America/Denver
BEGIN:DAYLIGHT
TZOFFSETFROM:-0700
TZOFFSETTO:-0600
TZNAME:MDT
DTSTART:20240310T090000
END:DAYLIGHT
BEGIN:STANDARD
TZOFFSETFROM:-0600
TZOFFSETTO:-0700
TZNAME:MST
DTSTART:20241103T080000
END:STANDARD
BEGIN:DAYLIGHT
TZOFFSETFROM:-0700
TZOFFSETTO:-0600
TZNAME:MDT
DTSTART:20250309T090000
END:DAYLIGHT
BEGIN:STANDARD
TZOFFSETFROM:-0600
TZOFFSETTO:-0700
TZNAME:MST
DTSTART:20251102T080000
END:STANDARD
BEGIN:DAYLIGHT
TZOFFSETFROM:-0700
TZOFFSETTO:-0600
TZNAME:MDT
DTSTART:20260308T090000
END:DAYLIGHT
BEGIN:STANDARD
TZOFFSETFROM:-0600
TZOFFSETTO:-0700
TZNAME:MST
DTSTART:20261101T080000
END:STANDARD
END:VTIMEZONE
BEGIN:VEVENT
DTSTART;TZID=America/Denver:20250707T100000
DTEND;TZID=America/Denver:20250707T140000
DTSTAMP:20260421T130756
CREATED:20250530T211330Z
LAST-MODIFIED:20250617T203023Z
UID:14541-1751882400-1751896800@gideontaylor.com
SUMMARY:Training- Web Development Lite for PeopleSoft
DESCRIPTION:Hands-on training for PeopleSoft tech professionals to enhance applications using HTML\, CSS\, and JavaScript. Focus on improving user experience and modernizing interfaces while maintaining system upgradability. \n  \nAdditional Topics include: \n\nPeopleSoft’s Web Architecture\nUI Enhancement with HTML and CSS (styling\, responsive design\, branding)\nJavaScript Interactivity (event-driven scripting\, safe implementation)\nPractical Exercises and Real-World Use Cases\nBest practices for maintaining upgradability\n\nCost: \n\n$850 per seat for Currently Scheduled Open Sessions\n$2\,500 for a Dedicated Session (your company only\, up to 8 attendees)
URL:https://gideontaylor.com/event/training-web-development-lite-for-peoplesoft/
LOCATION:Online\, United States
CATEGORIES:Trainings
ATTACH;FMTTYPE=image/png:https://gideontaylor.com/wp-content/uploads/2025/04/Screenshot-2025-04-23-at-9.34.15 PM.png
ORGANIZER;CN="Gideon Taylor":MAILTO:info@gideontaylor.com
END:VEVENT
END:VCALENDAR