BEGIN:VCALENDAR
VERSION:2.0
PRODID:-//Gideon Taylor - ECPv6.15.20//NONSGML v1.0//EN
CALSCALE:GREGORIAN
METHOD:PUBLISH
X-WR-CALNAME:Gideon Taylor
X-ORIGINAL-URL:https://gideontaylor.com
X-WR-CALDESC:Events for Gideon Taylor
REFRESH-INTERVAL;VALUE=DURATION:PT1H
X-Robots-Tag:noindex
X-PUBLISHED-TTL:PT1H
BEGIN:VTIMEZONE
TZID:America/Denver
BEGIN:DAYLIGHT
TZOFFSETFROM:-0700
TZOFFSETTO:-0600
TZNAME:MDT
DTSTART:20240310T090000
END:DAYLIGHT
BEGIN:STANDARD
TZOFFSETFROM:-0600
TZOFFSETTO:-0700
TZNAME:MST
DTSTART:20241103T080000
END:STANDARD
BEGIN:DAYLIGHT
TZOFFSETFROM:-0700
TZOFFSETTO:-0600
TZNAME:MDT
DTSTART:20250309T090000
END:DAYLIGHT
BEGIN:STANDARD
TZOFFSETFROM:-0600
TZOFFSETTO:-0700
TZNAME:MST
DTSTART:20251102T080000
END:STANDARD
BEGIN:DAYLIGHT
TZOFFSETFROM:-0700
TZOFFSETTO:-0600
TZNAME:MDT
DTSTART:20260308T090000
END:DAYLIGHT
BEGIN:STANDARD
TZOFFSETFROM:-0600
TZOFFSETTO:-0700
TZNAME:MST
DTSTART:20261101T080000
END:STANDARD
END:VTIMEZONE
BEGIN:VEVENT
DTSTART;TZID=America/Denver:20250701T100000
DTEND;TZID=America/Denver:20250701T140000
DTSTAMP:20260421T130853
CREATED:20250530T204937Z
LAST-MODIFIED:20250617T202034Z
UID:14530-1751364000-1751378400@gideontaylor.com
SUMMARY:Training- Advanced GT eForms Configuration
DESCRIPTION:A 4-hour advanced training class designed for GT eForms builders who have completed the introductory training. The session focuses on extending configuration skills to handle more complex business processes\, covering popular features in greater depth and exploring design decision-making for challenging configuration situations. \nAdditional topics include: \n\nAdvanced data pool configuration\nWorking with instruction fields\nAdvanced visual if logic\n\nCost: \n\n$600 per seat for Currently Scheduled Open Sessions (scheduled sessions available on calendar)\n$1\,800 for a Dedicated Session (by request – your company only\, up to 8 attendees)\n\n 
URL:https://gideontaylor.com/event/training-advanced-gt-eforms-configuration/
LOCATION:Online\, United States
CATEGORIES:Trainings
ATTACH;FMTTYPE=image/png:https://gideontaylor.com/wp-content/uploads/2025/04/Screenshot-2025-04-23-at-9.34.15 PM.png
ORGANIZER;CN="Gideon Taylor":MAILTO:info@gideontaylor.com
END:VEVENT
END:VCALENDAR