BEGIN:VCALENDAR
VERSION:2.0
PRODID:-//Gideon Taylor - ECPv6.15.20//NONSGML v1.0//EN
CALSCALE:GREGORIAN
METHOD:PUBLISH
X-ORIGINAL-URL:https://gideontaylor.com
X-WR-CALDESC:Events for Gideon Taylor
REFRESH-INTERVAL;VALUE=DURATION:PT1H
X-Robots-Tag:noindex
X-PUBLISHED-TTL:PT1H
BEGIN:VTIMEZONE
TZID:America/Denver
BEGIN:DAYLIGHT
TZOFFSETFROM:-0700
TZOFFSETTO:-0600
TZNAME:MDT
DTSTART:20240310T090000
END:DAYLIGHT
BEGIN:STANDARD
TZOFFSETFROM:-0600
TZOFFSETTO:-0700
TZNAME:MST
DTSTART:20241103T080000
END:STANDARD
BEGIN:DAYLIGHT
TZOFFSETFROM:-0700
TZOFFSETTO:-0600
TZNAME:MDT
DTSTART:20250309T090000
END:DAYLIGHT
BEGIN:STANDARD
TZOFFSETFROM:-0600
TZOFFSETTO:-0700
TZNAME:MST
DTSTART:20251102T080000
END:STANDARD
BEGIN:DAYLIGHT
TZOFFSETFROM:-0700
TZOFFSETTO:-0600
TZNAME:MDT
DTSTART:20260308T090000
END:DAYLIGHT
BEGIN:STANDARD
TZOFFSETFROM:-0600
TZOFFSETTO:-0700
TZNAME:MST
DTSTART:20261101T080000
END:STANDARD
END:VTIMEZONE
BEGIN:VEVENT
DTSTART;VALUE=DATE:20250602
DTEND;VALUE=DATE:20250607
DTSTAMP:20260421T143807
CREATED:20250428T215115Z
LAST-MODIFIED:20250530T214817Z
UID:13767-1748822400-1749254399@gideontaylor.com
SUMMARY:Training- Intro to GT eForms
DESCRIPTION:Early Bird Pricing Ends Soon!\nWe’re excited to announce our next Intro to GT eForms Training scheduled for June 2-6\, 2025 from 8:00 AM- 2:30 PM MDT . This comprehensive mixed-client training session is perfect for new team members or anyone looking for a refresher on GT eForms capabilities. \n\nWhat You’ll Learn\nOur hands-on training program includes: \n\nPractical Form Building – Create real forms with guided practice exercises\nDesign Strategy – Learn expert mentoring techniques to maximize tool effectiveness\nWorkshop Sessions – Build your own forms with direct GT staff support\nTechnical Deep Dive – Discover how to extend the tool’s capabilities for advanced solutions\n\n\nLimited Time Offer\n🕒 Early Bird Discount Ends May 2nd! 🕒 \nRegister by May 2nd to lock in a $300 savings! Give your team the skills they need to tackle your next eForm project confidently. \n\nWhy Choose GT eForms Training?\nOur professional training delivers: \n\nImmediate ROI – Apply new skills directly to current projects\nExpert Instruction – Learn from certified GT eForms specialists\nMixed-Client Environment – Network and share best practices with peers\nComprehensive Curriculum – Cover all essential aspects of form creation and management\n\nDon’t miss this opportunity to enhance your team’s capabilities with industry-leading training.
URL:https://gideontaylor.com/event/intro-to-gt-eforms-training/
LOCATION:Online\, United States
CATEGORIES:Trainings
ATTACH;FMTTYPE=image/png:https://gideontaylor.com/wp-content/uploads/2025/04/Screenshot-2025-04-23-at-9.34.15 PM.png
END:VEVENT
END:VCALENDAR