BEGIN:VCALENDAR
VERSION:2.0
PRODID:-//Gideon Taylor - ECPv6.15.20//NONSGML v1.0//EN
CALSCALE:GREGORIAN
METHOD:PUBLISH
X-WR-CALNAME:Gideon Taylor
X-ORIGINAL-URL:https://gideontaylor.com
X-WR-CALDESC:Events for Gideon Taylor
REFRESH-INTERVAL;VALUE=DURATION:PT1H
X-Robots-Tag:noindex
X-PUBLISHED-TTL:PT1H
BEGIN:VTIMEZONE
TZID:America/Denver
BEGIN:DAYLIGHT
TZOFFSETFROM:-0700
TZOFFSETTO:-0600
TZNAME:MDT
DTSTART:20220313T090000
END:DAYLIGHT
BEGIN:STANDARD
TZOFFSETFROM:-0600
TZOFFSETTO:-0700
TZNAME:MST
DTSTART:20221106T080000
END:STANDARD
BEGIN:DAYLIGHT
TZOFFSETFROM:-0700
TZOFFSETTO:-0600
TZNAME:MDT
DTSTART:20230312T090000
END:DAYLIGHT
BEGIN:STANDARD
TZOFFSETFROM:-0600
TZOFFSETTO:-0700
TZNAME:MST
DTSTART:20231105T080000
END:STANDARD
BEGIN:DAYLIGHT
TZOFFSETFROM:-0700
TZOFFSETTO:-0600
TZNAME:MDT
DTSTART:20240310T090000
END:DAYLIGHT
BEGIN:STANDARD
TZOFFSETFROM:-0600
TZOFFSETTO:-0700
TZNAME:MST
DTSTART:20241103T080000
END:STANDARD
END:VTIMEZONE
BEGIN:VEVENT
DTSTART;TZID=America/Denver:20231214T110000
DTEND;TZID=America/Denver:20231214T120000
DTSTAMP:20260421T051446
CREATED:20250618T220555Z
LAST-MODIFIED:20250620T164947Z
UID:14938-1702551600-1702555200@gideontaylor.com
SUMMARY:PNM Resources displays their Interactive\, Multi-stage Employee Performance Review eForm
DESCRIPTION:PNM Resources\, a leading energy provider in the South / Southwest\, demonstrates how they’ve used GT eForms inside PeopleSoft HCM to create an interactive\, multi-stage employee performance review solution\, including: \n\nAnnual goal-setting\nMulti-stage\, collaborative review points throughout the year\nDepartment-based roundtable process for final review reconciliation
URL:https://gideontaylor.com/event/gt-lunch-learn-pnm-resources-shows-off-a-multi-stage-employee-performance-review/
LOCATION:Online\, United States
CATEGORIES:Lunch & Learn
ATTACH;FMTTYPE=image/png:https://gideontaylor.com/wp-content/uploads/2024/12/gt_lunch_and_learn_logo_25-e1750286230571.png
ORGANIZER;CN="Gideon Taylor":MAILTO:info@gideontaylor.com
END:VEVENT
END:VCALENDAR