BEGIN:VCALENDAR
VERSION:2.0
PRODID:-//Gideon Taylor - ECPv6.15.20//NONSGML v1.0//EN
CALSCALE:GREGORIAN
METHOD:PUBLISH
X-WR-CALNAME:Gideon Taylor
X-ORIGINAL-URL:https://gideontaylor.com
X-WR-CALDESC:Events for Gideon Taylor
REFRESH-INTERVAL;VALUE=DURATION:PT1H
X-Robots-Tag:noindex
X-PUBLISHED-TTL:PT1H
BEGIN:VTIMEZONE
TZID:America/Denver
BEGIN:DAYLIGHT
TZOFFSETFROM:-0700
TZOFFSETTO:-0600
TZNAME:MDT
DTSTART:20230312T090000
END:DAYLIGHT
BEGIN:STANDARD
TZOFFSETFROM:-0600
TZOFFSETTO:-0700
TZNAME:MST
DTSTART:20231105T080000
END:STANDARD
BEGIN:DAYLIGHT
TZOFFSETFROM:-0700
TZOFFSETTO:-0600
TZNAME:MDT
DTSTART:20240310T090000
END:DAYLIGHT
BEGIN:STANDARD
TZOFFSETFROM:-0600
TZOFFSETTO:-0700
TZNAME:MST
DTSTART:20241103T080000
END:STANDARD
BEGIN:DAYLIGHT
TZOFFSETFROM:-0700
TZOFFSETTO:-0600
TZNAME:MDT
DTSTART:20250309T090000
END:DAYLIGHT
BEGIN:STANDARD
TZOFFSETFROM:-0600
TZOFFSETTO:-0700
TZNAME:MST
DTSTART:20251102T080000
END:STANDARD
END:VTIMEZONE
BEGIN:VEVENT
DTSTART;TZID=America/Denver:20240815T100000
DTEND;TZID=America/Denver:20240815T110000
DTSTAMP:20260425T175244
CREATED:20240614T034539Z
LAST-MODIFIED:20250313T130311Z
UID:2387-1723716000-1723719600@gideontaylor.com
SUMMARY:Rethinking Digital Transformation\, Chapter 2: Unintended Consequences of SaaS Migrations
DESCRIPTION:Rethinking Digital Transformation\, Chapter 2: Unintended Consequences of SaaS Migrations \nAttention PeopleSoft users! Are you considering a SaaS migration? As the saying goes\, what you don’t know CAN hurt you. Join us for this new webinar full of proven ways to avoid unwanted surprises.  \nJoin us for this insight-packed webinar with Gideon Taylor CEO Paul Taylor. Thursday\, August 15th @ 12PM CDT. \n \nOne of PeopleSoft’s greatest strengths has always been its flexibility\, but that’s also one of its greatest challenges. If you’re contemplating the move to a SaaS solution\, how do you shift from the unlimited (and sometimes uncontrolled) flexibility of PeopleSoft to cookie-cutter rigidity? What do you lose and gain along the way? \nJoin us for Paul Taylor’s theoretical (and often entertaining) musings of “what might be”. How do you address business requirements that aren’t delivered within the base product? Does “SaaS” always equal “up to date” and “best practice”? How do you manage user expectations…and how do you tell them “No”? Perhaps most crucially – when is the right time to move to SaaS? \nPaul will explore benefits and challenges both obvious and unseen. DISCLAIMER: We hope you’re curious about what he has to say\, because we’re never quite sure what to expect.
URL:https://gideontaylor.com/event/rethinking-digital-transformation-chapter-2-unintended-consequences-of-saas-migrations-2/
LOCATION:TX
ATTACH;FMTTYPE=image/png:https://gideontaylor.com/wp-content/uploads/2024/08/2-e1718314875779.png
END:VEVENT
BEGIN:VEVENT
DTSTART;TZID=America/Denver:20240815T120000
DTEND;TZID=America/Denver:20240815T130000
DTSTAMP:20260425T175244
CREATED:20250620T164053Z
LAST-MODIFIED:20250620T164053Z
UID:15111-1723723200-1723726800@gideontaylor.com
SUMMARY:University of South Carolina discusses how their Grant Time & Effort Report eform automated their report process
DESCRIPTION:This GT Lunch & Learn featured The University of South Carolina discussing their Grant Time & Effort Report solution using GT eForms. \nKey points included:  \n\nAutomated batch process creates Time and Effort Report forms for grant-funded employees\, with emails sent to managers for review and approval.\nWorkflow utilizes parallel paths for each project & auto-approves if previously approved in an earlier step.\nSetup tables define reporting periods and exclude certain project IDs from grants reporting.\nBI Publisher report compiles form information and certifications into a printable format.
URL:https://gideontaylor.com/event/university-of-south-carolina-discusses-how-their-grant-time-effort-report-eform-automated-their-report-process/
LOCATION:TX
CATEGORIES:Lunch & Learn
ATTACH;FMTTYPE=image/png:https://gideontaylor.com/wp-content/uploads/2024/12/gt_lunch_and_learn_logo_25-e1750286230571.png
ORGANIZER;CN="Gideon Taylor":MAILTO:info@gideontaylor.com
END:VEVENT
END:VCALENDAR