BEGIN:VCALENDAR
VERSION:2.0
PRODID:-//Gideon Taylor - ECPv6.15.20//NONSGML v1.0//EN
CALSCALE:GREGORIAN
METHOD:PUBLISH
X-WR-CALNAME:Gideon Taylor
X-ORIGINAL-URL:https://gideontaylor.com
X-WR-CALDESC:Events for Gideon Taylor
REFRESH-INTERVAL;VALUE=DURATION:PT1H
X-Robots-Tag:noindex
X-PUBLISHED-TTL:PT1H
BEGIN:VTIMEZONE
TZID:America/Denver
BEGIN:DAYLIGHT
TZOFFSETFROM:-0700
TZOFFSETTO:-0600
TZNAME:MDT
DTSTART:20220313T090000
END:DAYLIGHT
BEGIN:STANDARD
TZOFFSETFROM:-0600
TZOFFSETTO:-0700
TZNAME:MST
DTSTART:20221106T080000
END:STANDARD
BEGIN:DAYLIGHT
TZOFFSETFROM:-0700
TZOFFSETTO:-0600
TZNAME:MDT
DTSTART:20230312T090000
END:DAYLIGHT
BEGIN:STANDARD
TZOFFSETFROM:-0600
TZOFFSETTO:-0700
TZNAME:MST
DTSTART:20231105T080000
END:STANDARD
BEGIN:DAYLIGHT
TZOFFSETFROM:-0700
TZOFFSETTO:-0600
TZNAME:MDT
DTSTART:20240310T090000
END:DAYLIGHT
BEGIN:STANDARD
TZOFFSETFROM:-0600
TZOFFSETTO:-0700
TZNAME:MST
DTSTART:20241103T080000
END:STANDARD
END:VTIMEZONE
BEGIN:VEVENT
DTSTART;TZID=America/Denver:20230720T120000
DTEND;TZID=America/Denver:20230720T130000
DTSTAMP:20260424T210205
CREATED:20230619T221131Z
LAST-MODIFIED:20250313T130311Z
UID:2366-1689854400-1689858000@gideontaylor.com
SUMMARY:Rethinking Digital Transformation - Chapter 2: A.I. is suddenly everywhere! What is the fuss and where can I get value?
DESCRIPTION:In an era driven by digital innovation\, the current business landscape is witnessing a significant revolution with the emergence of A.I. chatbots. This presentation explores the current market for A.I. enterprise-class chatbots\, focusing on their unprecedented potential to enhance the experiences of employees\, managers\, applicants\, retirees and more. \nJoin us as we explore how A.I. is revolutionizing businesses both large and small. Discover the untapped value chatbots hold for all users and how Oracle’s strategic partnership with Gideon Taylor unlocks this technology’s full potential. We’ll discuss the current market landscape and the transformative influence of generative AI and Large Language Models. We’ll look at real-world client case studies that showcase the benefits institutions have already gained with A.I. chatbots\, from streamlined administrative processes to personalized\, secure user experiences. \nWitness a live demo of an Oracle-powered enterprise chatbots in action\, seamlessly integrating with enterprise systems. Prepare to reimagine the future of HCM and embrace the boundless possibilities that A.I. chatbots bring to enterprise!
URL:https://gideontaylor.com/event/rethinking-digital-transformation-chapter-2-a-i-is-suddenly-everywhere-what-is-the-fuss-and-where-can-i-get-value/
LOCATION:TX
ATTACH;FMTTYPE=image/png:https://gideontaylor.com/wp-content/uploads/2024/03/Rethinking-digital-transformation-header.png
END:VEVENT
END:VCALENDAR