BEGIN:VCALENDAR
VERSION:2.0
PRODID:-//Gideon Taylor - ECPv6.15.20//NONSGML v1.0//EN
CALSCALE:GREGORIAN
METHOD:PUBLISH
X-WR-CALNAME:Gideon Taylor
X-ORIGINAL-URL:https://gideontaylor.com
X-WR-CALDESC:Events for Gideon Taylor
REFRESH-INTERVAL;VALUE=DURATION:PT1H
X-Robots-Tag:noindex
X-PUBLISHED-TTL:PT1H
BEGIN:VTIMEZONE
TZID:America/Denver
BEGIN:DAYLIGHT
TZOFFSETFROM:-0700
TZOFFSETTO:-0600
TZNAME:MDT
DTSTART:20220313T090000
END:DAYLIGHT
BEGIN:STANDARD
TZOFFSETFROM:-0600
TZOFFSETTO:-0700
TZNAME:MST
DTSTART:20221106T080000
END:STANDARD
BEGIN:DAYLIGHT
TZOFFSETFROM:-0700
TZOFFSETTO:-0600
TZNAME:MDT
DTSTART:20230312T090000
END:DAYLIGHT
BEGIN:STANDARD
TZOFFSETFROM:-0600
TZOFFSETTO:-0700
TZNAME:MST
DTSTART:20231105T080000
END:STANDARD
BEGIN:DAYLIGHT
TZOFFSETFROM:-0700
TZOFFSETTO:-0600
TZNAME:MDT
DTSTART:20240310T090000
END:DAYLIGHT
BEGIN:STANDARD
TZOFFSETFROM:-0600
TZOFFSETTO:-0700
TZNAME:MST
DTSTART:20241103T080000
END:STANDARD
END:VTIMEZONE
BEGIN:VEVENT
DTSTART;VALUE=DATE:20230225
DTEND;VALUE=DATE:20230302
DTSTAMP:20260424T124355
CREATED:20230126T000015Z
LAST-MODIFIED:20250313T130559Z
UID:2356-1677344400-1677689999@gideontaylor.com
SUMMARY:HEUG Alliance 2023 - Gideon Taylor Session Schedule
DESCRIPTION:Are you planning on attending HEUG Alliance 2023 in St. Louis? If so\, we look forward to seeing you there!\nBe sure to stop by our booth – #1809 (we have some BIG giveaways planned!) and we’d also love to connect with you in the many sessions we’re presenting\, co-presenting\, or included in. Here is the complete list with session links: \n  \n\n\n\nTime\nAlliance Sessions (date/time)\nRoom #\nPresenter\nCo-presenter #1\nCo-presenter #2\nSession Link\n\n\n\n\n\n\n\n\n\n\n\n\nMonday\, February 27th\n\n\n\n\n\n\n\n9:00-10:00am\nSaving Trees and Saving Time! (Part 1)\nTBD\nRosella Wagner\n\n\nhttps://www.alliance-conference.com/p/cm/ld/fid=4658&eaid=20707\n\n\n10:30-11:30am\nSaving Trees and Saving Time! (Part 2)\nTBD\nRosella Wagner\n\n\nhttps://www.alliance-conference.com/p/cm/ld/fid=4659&aid=25600\n\n\n4:00-5:00pm\nMove to Cloud\, Make Users Happy\, Save Money: In What Order?\nTBD\nPaul Taylor\nJohn Woodrum\n\nhttps://www.alliance-conference.com/p/cm/ld/fid=4658&eaid=21035\n\n\n\n\n\n\n\n\n\n\n\n\nTuesday\, February 28th\n\n\n\n\n\n\n\n9:00-10:00am\nChatbots\, eForms\, and Robotic Process Automation – Yes\, You Are Behind!\n263\nAndrew Bediz\nHolger Noreke\n\nhttps://www.alliance-conference.com/p/cm/ld/fid=4658&eaid=21059\n\n\n1:00-2:00pm\nProgram Granite at BYU – Laying an ERP Cloud foundation\n230\nRuss Scadden\nLuke Rowley\nMarlon Sofoifa\nhttps://www.alliance-conference.com/p/cm/ld/fid=4658&eaid=20854\n\n\n2:30-3:30pm\nProgram Granite at BYU – Laying an ERP Cloud foundation (pt. 2)\n230\nRuss Scadden\nLuke Rowley\nMarlon Sofoifa\nhttps://www.alliance-conference.com/p/cm/ld/fid=4658&eaid=20874\n\n\n2:30-3:30pm\nGT eForms – Solution Sharing\nTBD\nAndrea Lloyd\n\n\nhttps://www.alliance-conference.com/p/cm/ld/fid=4658&eaid=20872\n\n\n4:00-5:00pm\nChoose your own adventure: How eForms transformed security access\nTBD\nAlexander Lee\n\n\nhttps://www.alliance-conference.com/p/cm/ld/fid=4658&eaid=20901\n\n\n\n\n\n\n\n\n\n\n\n\nWednesday\, March 1st\n\n\n\n\n\n\n\n10:30-11:30am\n VCCS: 23 bots\, 1 system. A tale from year one\nTBD\nSean Corron\nHolly Whistler\nAndrew Bediz\nhttps://www.alliance-conference.com/p/cm/ld/fid=4658&eaid=20927\n\n\n12:00-12:30pm\nLos Rios: Lessons Learned on the Road to Transformation\nTBD\nDavid James Rowe\nQing Shuler\nKristen Tutera\nhttps://www.alliance-conference.com/p/cm/ld/fid=4658&eaid=21046\n\n\n1:30-2:30pm\nToday’s Special: eForms Your Way with a side of AWE\nTBD\nAndrea Lloyd\n\n\nhttps://www.alliance-conference.com/p/cm/ld/fid=4658&eaid=20964\n\n\n\nWe are bringing a spirit of adventure and innovation to the Gateway City. Gideon Taylor is committed to helping your organization discover new vistas and achieve important new organizational priorities. Come and connect with us in St. Louis! \n 
URL:https://gideontaylor.com/event/heug-alliance-2023-gideon-taylor-session-schedule/
LOCATION:TX
ATTACH;FMTTYPE=image/jpeg:https://gideontaylor.com/wp-content/uploads/2024/03/Alliance2023-MarketingLogo-Color.jpg
END:VEVENT
END:VCALENDAR