BEGIN:VCALENDAR
VERSION:2.0
PRODID:-//Gideon Taylor - ECPv6.15.20//NONSGML v1.0//EN
CALSCALE:GREGORIAN
METHOD:PUBLISH
X-WR-CALNAME:Gideon Taylor
X-ORIGINAL-URL:https://gideontaylor.com
X-WR-CALDESC:Events for Gideon Taylor
REFRESH-INTERVAL;VALUE=DURATION:PT1H
X-Robots-Tag:noindex
X-PUBLISHED-TTL:PT1H
BEGIN:VTIMEZONE
TZID:America/Denver
BEGIN:DAYLIGHT
TZOFFSETFROM:-0700
TZOFFSETTO:-0600
TZNAME:MDT
DTSTART:20210314T090000
END:DAYLIGHT
BEGIN:STANDARD
TZOFFSETFROM:-0600
TZOFFSETTO:-0700
TZNAME:MST
DTSTART:20211107T080000
END:STANDARD
BEGIN:DAYLIGHT
TZOFFSETFROM:-0700
TZOFFSETTO:-0600
TZNAME:MDT
DTSTART:20220313T090000
END:DAYLIGHT
BEGIN:STANDARD
TZOFFSETFROM:-0600
TZOFFSETTO:-0700
TZNAME:MST
DTSTART:20221106T080000
END:STANDARD
BEGIN:DAYLIGHT
TZOFFSETFROM:-0700
TZOFFSETTO:-0600
TZNAME:MDT
DTSTART:20230312T090000
END:DAYLIGHT
BEGIN:STANDARD
TZOFFSETFROM:-0600
TZOFFSETTO:-0700
TZNAME:MST
DTSTART:20231105T080000
END:STANDARD
END:VTIMEZONE
BEGIN:VEVENT
DTSTART;TZID=America/Denver:20221207T090000
DTEND;TZID=America/Denver:20221207T100000
DTSTAMP:20260424T091645
CREATED:20221104T210040Z
LAST-MODIFIED:20250116T152036Z
UID:2353-1670403600-1670407200@gideontaylor.com
SUMMARY:What if PeopleSoft were a bit more like Alexa?
DESCRIPTION:What if PeopleSoft were a bit more like Alexa? Is that even possible? Yes! Join us for a brand-new (and free) webinar to learn more. \nWe’re excited to share a new learning opportunity for the PeopleSoft community on Wednesday\, December 7th at 10 AM CST. \nIn partnership with Pathlock\, join Scott Antin\, VP of Sales at Gideon Taylor as he shares proven & effective ways you can optimize your PeopleSoft and PeopleTools processes. Register today!
URL:https://gideontaylor.com/event/what-if-peoplesoft-were-a-bit-more-like-alexa/
LOCATION:TX
ATTACH;FMTTYPE=image/png:https://gideontaylor.com/wp-content/uploads/2024/03/Dec7_10AM-1.png
END:VEVENT
END:VCALENDAR