BEGIN:VCALENDAR
VERSION:2.0
PRODID:-//Gideon Taylor - ECPv6.15.20//NONSGML v1.0//EN
CALSCALE:GREGORIAN
METHOD:PUBLISH
X-WR-CALNAME:Gideon Taylor
X-ORIGINAL-URL:https://gideontaylor.com
X-WR-CALDESC:Events for Gideon Taylor
REFRESH-INTERVAL;VALUE=DURATION:PT1H
X-Robots-Tag:noindex
X-PUBLISHED-TTL:PT1H
BEGIN:VTIMEZONE
TZID:America/Denver
BEGIN:DAYLIGHT
TZOFFSETFROM:-0700
TZOFFSETTO:-0600
TZNAME:MDT
DTSTART:20210314T090000
END:DAYLIGHT
BEGIN:STANDARD
TZOFFSETFROM:-0600
TZOFFSETTO:-0700
TZNAME:MST
DTSTART:20211107T080000
END:STANDARD
BEGIN:DAYLIGHT
TZOFFSETFROM:-0700
TZOFFSETTO:-0600
TZNAME:MDT
DTSTART:20220313T090000
END:DAYLIGHT
BEGIN:STANDARD
TZOFFSETFROM:-0600
TZOFFSETTO:-0700
TZNAME:MST
DTSTART:20221106T080000
END:STANDARD
BEGIN:DAYLIGHT
TZOFFSETFROM:-0700
TZOFFSETTO:-0600
TZNAME:MDT
DTSTART:20230312T090000
END:DAYLIGHT
BEGIN:STANDARD
TZOFFSETFROM:-0600
TZOFFSETTO:-0700
TZNAME:MST
DTSTART:20231105T080000
END:STANDARD
END:VTIMEZONE
BEGIN:VEVENT
DTSTART;VALUE=DATE:20220611
DTEND;VALUE=DATE:20220616
DTSTAMP:20260423T220704
CREATED:20220205T010043Z
LAST-MODIFIED:20250116T152035Z
UID:2339-1654970400-1655315999@gideontaylor.com
SUMMARY:Ascend 2022 Conference (OHUG-OATUG)
DESCRIPTION:Ascend is the Oracle user community event that unites functional users\, IT professionals and expert resources for frank discussion and practical education to elevate insights and improve decision making\, project planning and business operations. Focused on Oracle’s family of applications and technologies\, Ascend brings together users of Peoplesoft HCM\, Oracle E-Business Suite\, Oracle Cloud Applications\, Oracle Database\, or Taleo. Make plans now to reconnect with the Oracle community June 12-15\, 2022 at the sleek and sophisticated Aria Resort & Casino in Las Vegas.
URL:https://gideontaylor.com/event/ascend-2022-conference-ohug-oatug/
LOCATION:TX
ATTACH;FMTTYPE=image/png:https://gideontaylor.com/wp-content/uploads/2024/03/Ascend22_only.png
END:VEVENT
BEGIN:VEVENT
DTSTART;VALUE=DATE:20220611
DTEND;VALUE=DATE:20220616
DTSTAMP:20260423T220704
CREATED:20220203T065947Z
LAST-MODIFIED:20250116T152035Z
UID:2337-1654984800-1655330399@gideontaylor.com
SUMMARY:INTERACT 2022 Conference (HIUG)
DESCRIPTION:The HIUG Interact Conference is an annual user-driven meeting of Oracle application Healthcare users. The conference comprises 600+ attendees\, 40+ vendors\, and more than 175 educational sessions/clinics. \n\nThe educational sessions are presented by user organizations\, Oracle experts\, and our vendor sponsors.\nIndustry leaders and other industry experts share information on how they continuously transform their applications and businesses to meet the needs of the ever-changing Healthcare Industry\nThe Exhibit Hall offers the ability to evaluate multiple vendors\, discuss service offerings\, and see product demos\n\nThe Interact conference provides the perfect setting to collaborate and share innovative and efficient uses of the Oracle applications as they serve the healthcare community. It is open to all employees of Healthcare Organizations with licensed Oracle Enterprise application products and services.  The Interact Conference team is hard at work\, so make your plans now to be a part of Interact 2022. \nJoin us for these sessions hosted by Gideon Taylor: \nPeopleSoft Power Tools to Boost ROI: Chatbots\, eForms\, and RPA (Session #20118)\nMonday\, June 13\, 9:40 – 10:40 AM EDT\nPresented by: Paul Taylor (Gideon Taylor) and Andrew Bediz (IntraSee)\nChatbots\, eForms\, RPA. There is no better return on investment in enterprise software than automation. Not cloud\, not SaaS\, not upgrades. The single biggest cost to enterprise software is the people needed to run it. Automation at all levels will drive efficiency and save your organization money. \nAutomation can be applied to various pillars\, but the three most common are (1) automating work your backend users perform\, (2) automating work your self-service users are asked to do\, and (3) automating the work to support all of your users. For PeopleSoft customers\, all three of these automation opportunities are available today! Join us for a crash course on the tenets of automation ROI and see how you can maximize the value\, productivity\, and performance of your PeopleSoft system. We’ll show you how you can automate user tasks and support with world-class digital assistants; automate business processes with Fluid eForms; and automate heavy backend work in PeopleSoft with RPA technology. \nEliminate clicks\, simplify processes\, increase visibility\, and accelerate transactions. You will spend far less than on a new SaaS and have much greater returns. If you’re looking for more productivity\, more efficiency\, and more value\, we will show you how to unlock that today from your HCM / FSCM / Campus Solutions systems. \n\nPeopleSoft Onboarding – Delivering Employee Productivity On and BEFORE Day One! (Session #20117)\nTuesday\, June 14\, 9:30 – 10:30 AM EDT\nPresented by: Paul Taylor and Scott Antin (Gideon Taylor)\nIn today’s competitive labor market\, making your employees welcome and productive even before Day One can be the difference between “Welcome Aboard” and “See Ya’ Later”. Join us as we walk through a demo and discussion of the components of a successful PeopleSoft Onboarding experience including seamless integration with recruiting systems; pre-hire access to complete onboarding tasks and eForms; a fast and easy I-9 / E-Verify experience; and automatic provisioning of security accesses. \n\nCloud\, SaaS\, PeopleSoft\, and You: Preparing for What’s Next (Session #20154)\nWednesday\, June 15\, 8:30 – 9:30 AM EDT\nPresented by: Paul Taylor (Gideon Taylor) and Andrew Bediz (IntraSee)\nIn today’s market\, organizations have options on whether/how/when to move to the Cloud. Some are reimplementing to new SaaS solutions; others are optimizing PeopleSoft and lifting their existing ERP/HCM to the Oracle Cloud Infrastructure; and others are choosing to integrate Cloud-based solutions with their on-premise PeopleSoft applications. \nJoin us for a panel discussion on factors to consider in evaluating your options and how to get the most value from the direction you choose. We’ll share insights to help you navigate the options and the marketplace. How do you engage Oracle? How do you evaluate providers for Cloud services and/or Cloud infrastructure? What are the benefits you should expect? What will your team be responsible for AFTER the migration? \nWe’ll also share best practice on some of the smart things your organization can be doing TODAY so that you’re ready for TOMORROW: Designing Cloud-proofed business processes that can easily move PeopleSoft down either cloud path; Automating manual tasks to help your staff redefine the nature of “work”; Identifying opportunities to reduce and retire third-party systems. \nBring your questions and join us for successful strategies that will help you ensure a smooth landing if and when your cloud migration comes\, and allow you to keep innovating in the meantime.
URL:https://gideontaylor.com/event/interact-2022-conference/
LOCATION:TX
ATTACH;FMTTYPE=image/jpeg:https://gideontaylor.com/wp-content/uploads/2024/03/Interact-copy.jpg
END:VEVENT
END:VCALENDAR