BEGIN:VCALENDAR
VERSION:2.0
PRODID:-//Gideon Taylor - ECPv6.15.20//NONSGML v1.0//EN
CALSCALE:GREGORIAN
METHOD:PUBLISH
X-WR-CALNAME:Gideon Taylor
X-ORIGINAL-URL:https://gideontaylor.com
X-WR-CALDESC:Events for Gideon Taylor
REFRESH-INTERVAL;VALUE=DURATION:PT1H
X-Robots-Tag:noindex
X-PUBLISHED-TTL:PT1H
BEGIN:VTIMEZONE
TZID:America/Denver
BEGIN:DAYLIGHT
TZOFFSETFROM:-0700
TZOFFSETTO:-0600
TZNAME:MDT
DTSTART:20200308T090000
END:DAYLIGHT
BEGIN:STANDARD
TZOFFSETFROM:-0600
TZOFFSETTO:-0700
TZNAME:MST
DTSTART:20201101T080000
END:STANDARD
BEGIN:DAYLIGHT
TZOFFSETFROM:-0700
TZOFFSETTO:-0600
TZNAME:MDT
DTSTART:20210314T090000
END:DAYLIGHT
BEGIN:STANDARD
TZOFFSETFROM:-0600
TZOFFSETTO:-0700
TZNAME:MST
DTSTART:20211107T080000
END:STANDARD
BEGIN:DAYLIGHT
TZOFFSETFROM:-0700
TZOFFSETTO:-0600
TZNAME:MDT
DTSTART:20220313T090000
END:DAYLIGHT
BEGIN:STANDARD
TZOFFSETFROM:-0600
TZOFFSETTO:-0700
TZNAME:MST
DTSTART:20221106T080000
END:STANDARD
END:VTIMEZONE
BEGIN:VEVENT
DTSTART;TZID=America/Denver:20210617T110000
DTEND;TZID=America/Denver:20210617T120000
DTSTAMP:20260423T102816
CREATED:20210528T015732Z
LAST-MODIFIED:20250116T152034Z
UID:2317-1623927600-1623931200@gideontaylor.com
SUMMARY:GT PeopleSoft Master Series: A PeopleSoft Checklist for a Safe Return to School for Students and Staff
DESCRIPTION:Ready or not\, COVID is still going to be impacting us as students and staff return to campus this fall. Are you prepared? Even as you plan for a near-normal return\, you may be faced with new requirements: administering wellness surveys\, tracking vaccinations of students and staff members\, or enabling them to quickly and easily submit leave requests online. \nJoin us as we discuss and demonstrate PeopleSoft tools and features that can support a safe return to school for your students and employees. We’ll review features available for PeopleSoft HCM and Campus Solutions\, including: \n\nQuestionnaires\, acknowledgements\, and wellness surveys\nImmunization tracking for staff and students\nWorkflow-enabled self-service incident reporting (to self-report a COVID infection or report others)\nHealth & Safety administration for managing COVID incidents and contact tracing\nAnalytics related to COVID incidents and lost workdays related to such incidents; insights on hot-spots based on dept\, location\, jobcode\, etc.
URL:https://gideontaylor.com/event/gt-peoplesoft-master-series-a-peoplesoft-checklist-for-a-safe-return-to-school-for-students-and-staff/
LOCATION:TX
ATTACH;FMTTYPE=image/png:https://gideontaylor.com/wp-content/uploads/2024/03/PS-Master-Series-Webinar.png
END:VEVENT
END:VCALENDAR