BEGIN:VCALENDAR
VERSION:2.0
PRODID:-//Gideon Taylor - ECPv6.15.20//NONSGML v1.0//EN
CALSCALE:GREGORIAN
METHOD:PUBLISH
X-ORIGINAL-URL:https://gideontaylor.com
X-WR-CALDESC:Events for Gideon Taylor
REFRESH-INTERVAL;VALUE=DURATION:PT1H
X-Robots-Tag:noindex
X-PUBLISHED-TTL:PT1H
BEGIN:VTIMEZONE
TZID:America/Denver
BEGIN:DAYLIGHT
TZOFFSETFROM:-0700
TZOFFSETTO:-0600
TZNAME:MDT
DTSTART:20190310T090000
END:DAYLIGHT
BEGIN:STANDARD
TZOFFSETFROM:-0600
TZOFFSETTO:-0700
TZNAME:MST
DTSTART:20191103T080000
END:STANDARD
BEGIN:DAYLIGHT
TZOFFSETFROM:-0700
TZOFFSETTO:-0600
TZNAME:MDT
DTSTART:20200308T090000
END:DAYLIGHT
BEGIN:STANDARD
TZOFFSETFROM:-0600
TZOFFSETTO:-0700
TZNAME:MST
DTSTART:20201101T080000
END:STANDARD
BEGIN:DAYLIGHT
TZOFFSETFROM:-0700
TZOFFSETTO:-0600
TZNAME:MDT
DTSTART:20210314T090000
END:DAYLIGHT
BEGIN:STANDARD
TZOFFSETFROM:-0600
TZOFFSETTO:-0700
TZNAME:MST
DTSTART:20211107T080000
END:STANDARD
END:VTIMEZONE
BEGIN:VEVENT
DTSTART;VALUE=DATE:20201004
DTEND;VALUE=DATE:20201009
DTSTAMP:20260423T221646
CREATED:20200428T034912Z
LAST-MODIFIED:20250116T152033Z
UID:2308-1601852400-1602197999@gideontaylor.com
SUMMARY:RECONNECT 2020
DESCRIPTION:Created by users for users\, RECONNECT 20 is the definitive deep dive PeopleSoft conference. Gather with more than 2\,000+ PeopleSoft users just like you! \nAt RECONNECT\, you can: \n\n\nMeet your PeopleSoft product and strategy teams in-person\nSelect from more than 200 hands-on technical and functional learning sessions\nExplore hot topics like: PeopleTools\, Configuration\, User Experience\, Selective Adoption and PeopleSoft on the Cloud\nEarn CPE credits or get Oracle certified on your modules\nNetwork with hundreds of other PeopleSoft users\n\n\nYou’ll learn from the experts\, swap stories with other users\, follow tracks specific to your product interests\, and get practical experience through Oracle Hands-on Labs. Whether you’re an old hand or just learning the ropes\, RECONNECT 20 offers something for everyone. \nBest of all\, RECONNECT will help you and your team drive innovation\, make better decisions faster\, align business and technology goals and expand the business value of your existing solutions.
URL:https://gideontaylor.com/event/reconnect-2020/
LOCATION:TX
ATTACH;FMTTYPE=image/png:https://gideontaylor.com/wp-content/uploads/2024/03/RECONNECT-Main-Blue-and-Gray.png
END:VEVENT
END:VCALENDAR