BEGIN:VCALENDAR
VERSION:2.0
PRODID:-//Gideon Taylor - ECPv6.15.20//NONSGML v1.0//EN
CALSCALE:GREGORIAN
METHOD:PUBLISH
X-ORIGINAL-URL:https://gideontaylor.com
X-WR-CALDESC:Events for Gideon Taylor
REFRESH-INTERVAL;VALUE=DURATION:PT1H
X-Robots-Tag:noindex
X-PUBLISHED-TTL:PT1H
BEGIN:VTIMEZONE
TZID:America/Denver
BEGIN:DAYLIGHT
TZOFFSETFROM:-0700
TZOFFSETTO:-0600
TZNAME:MDT
DTSTART:20190310T090000
END:DAYLIGHT
BEGIN:STANDARD
TZOFFSETFROM:-0600
TZOFFSETTO:-0700
TZNAME:MST
DTSTART:20191103T080000
END:STANDARD
BEGIN:DAYLIGHT
TZOFFSETFROM:-0700
TZOFFSETTO:-0600
TZNAME:MDT
DTSTART:20200308T090000
END:DAYLIGHT
BEGIN:STANDARD
TZOFFSETFROM:-0600
TZOFFSETTO:-0700
TZNAME:MST
DTSTART:20201101T080000
END:STANDARD
BEGIN:DAYLIGHT
TZOFFSETFROM:-0700
TZOFFSETTO:-0600
TZNAME:MDT
DTSTART:20210314T090000
END:DAYLIGHT
BEGIN:STANDARD
TZOFFSETFROM:-0600
TZOFFSETTO:-0700
TZNAME:MST
DTSTART:20211107T080000
END:STANDARD
END:VTIMEZONE
BEGIN:VEVENT
DTSTART;TZID=America/Denver:20200616T120000
DTEND;TZID=America/Denver:20200616T130000
DTSTAMP:20260424T055944
CREATED:20200428T034746Z
LAST-MODIFIED:20250116T152033Z
UID:2307-1592308800-1592312400@gideontaylor.com
SUMMARY:A Guide to Building Custom Forms with Delivered 9.2 Tools
DESCRIPTION:Looking to create custom PeopleSoft forms and self-service applications? PeopleSoft 9.2 offers an intriguing catalog of tools\, including Activity Guides\, Approval Framework (AWE)\, Fluid Approvals\, Page Composer\, and the Fluid user interface. But what exactly do these tools do\, and how do they work together to build an actual end-to-end\, workflow-enabled form experience?\n\n\nWe’ll review each tool\, getting a view of what they’re designed to do\, how they work\, and how a best-practices approach incorporates each of them. We’ll focus special attention on where configuration options allow a functional analyst to contribute\, and where developers will have to get involved. \nAt the end of the session\, we’ll show how the latest release of Fluid GT eForms incorporates and extends your 9.2 tools to deliver even more power and flexibility.
URL:https://gideontaylor.com/event/peoplesoft-master-series-webinar-2/
LOCATION:TX
ATTACH;FMTTYPE=image/png:https://gideontaylor.com/wp-content/uploads/2024/03/PS-Master-Series-Webinar.png
END:VEVENT
END:VCALENDAR